BEGIN:VCALENDAR
VERSION:2.0
PRODID:-//Graeme Park - ECPv4.2.3//NONSGML v1.0//EN
CALSCALE:GREGORIAN
METHOD:PUBLISH
X-WR-CALNAME:Graeme Park
X-ORIGINAL-URL:https://www.graemepark.org
X-WR-CALDESC:Events for Graeme Park
BEGIN:VEVENT
DTSTART;TZID=America/New_York:20241011T190000
DTEND;TZID=America/New_York:20241011T230000
DTSTAMP:20260420T142703
CREATED:20240919T162107
LAST-MODIFIED:20241011T204840
UID:6839-1728673200-1728687600@www.graemepark.org
SUMMARY:A Walk Among the Graeme Ghosts
DESCRIPTION:SOLD OUT except for one ticket available at 9:15\n\nStep inside the ghost story\, and explore the haunted halls of Graeme Park. Over 300 years of spirits are active on the property\, and as the veil thins between the spirit world and our own\, the staff and volunteers cannot control the ghost activity on site.\n\nThis year\, we invite you to step inside the spirit realm. Join site staff and a hired medium to spend time in the museum after night fall. Maybe you can finally put the spirits to rest...\n\nTours at 7:00 (sold out)\, 7:45\, 8:30\, 9:15\, 10:00\n\nPlease Note: After you select your date\, you will click a button that says 7:00-11:00 pm - This is the time for the ENTIRE EVENT which TicketLeap forces us to enter. You will select your desired ticket time on the NEXT SCREEN. Please arrive at the event prior to your selected TICKET TIME. Tours are 30-35 minutes.\n\nBuy Tickets
URL:https://www.graemepark.org/event/a-walk-among-the-graeme-ghosts/
LOCATION:859 County Line Road\, Horsham\, PA\, 19044\, United States
CATEGORIES:Holiday,Tours
ATTACH;FMTTYPE=image/png:https://www.graemepark.org/wp-content/uploads/2024/09/1011GraemeGhosts.png
END:VEVENT
END:VCALENDAR