BEGIN:VCALENDAR
VERSION:2.0
PRODID:-//Graeme Park - ECPv4.2.3//NONSGML v1.0//EN
CALSCALE:GREGORIAN
METHOD:PUBLISH
X-WR-CALNAME:Graeme Park
X-ORIGINAL-URL:https://www.graemepark.org
X-WR-CALDESC:Events for Graeme Park
BEGIN:VEVENT
DTSTART;TZID=America/New_York:20181018T180000
DTEND;TZID=America/New_York:20181018T200000
DTSTAMP:20260419T142730
CREATED:20180209T211412
LAST-MODIFIED:20180728T163446
UID:4492-1539885600-1539892800@www.graemepark.org
SUMMARY:Happy Hour with the Historian: The "Body Snatchers" of the 18th Century
DESCRIPTION:Join us on the lovely evening grounds of in the cemetery at Graeme Park (indoors in cooler/inclement weather) for a few drinks\, munchies\, and 30-40 minute talk on a topic of historical interest. $5/cover charge; cash bar and food. No cover charge for members. Bar opens at 6 pm\, lecture starts at 7 pm.\n\nIn the 18th century\, being a dead person really did not mean your body got to rest in peace. Under the cover of darkness and armed with shovels\, tarps\, and tools\, teams of men snuck into cemeteries to extract human bodies from their not so final resting places. These were not the actions of common criminals\, however. Instead perpetrators who took to the darkness were some of the brightest and most promising citizens of the new republic.
URL:https://www.graemepark.org/event/happy-hour-with-the-historian-6/
LOCATION:859 County Line Road\, Horsham\, PA\, 19044\, United States
CATEGORIES:Happy Hour
ATTACH;FMTTYPE=image/png:https://www.graemepark.org/wp-content/uploads/2018/02/HappyHour4.png
END:VEVENT
END:VCALENDAR