BEGIN:VCALENDAR
VERSION:2.0
PRODID:-//Graeme Park - ECPv4.2.3//NONSGML v1.0//EN
CALSCALE:GREGORIAN
METHOD:PUBLISH
X-WR-CALNAME:Graeme Park
X-ORIGINAL-URL:https://www.graemepark.org
X-WR-CALDESC:Events for Graeme Park
BEGIN:VEVENT
DTSTART;TZID=America/New_York:20241027T123000
DTEND;TZID=America/New_York:20241027T150000
DTSTAMP:20260420T174447
CREATED:20240921T191244
LAST-MODIFIED:20241025T184425
UID:6843-1730032200-1730041200@www.graemepark.org
SUMMARY:SOLD OUT - Haunted Story Time & Trick-or-Treating
DESCRIPTION:Kids\, trick-or-treat through each room of the Keith House while our resident witches\, ghosts\, pirates and goblins read a progressive story. A treat in every room. Treat bags provided. Costumes encouraged. Recommended for kids 3-8. 12:30\, 1:30\, and 2:30 pm. Due to very limited space in the house\, please plan on only 1-2 parents/chaperones accompanying your child/children. FREE but please reserve your tickets in advance through the Ticket Leap link.\n\nBuy Tickets
URL:https://www.graemepark.org/event/haunted-story-time-trick-or-treating-2/
LOCATION:859 County Line Road\, Horsham\, PA\, 19044\, United States
ATTACH;FMTTYPE=image/png:https://www.graemepark.org/wp-content/uploads/2024/09/1027KidHalloween-1.png
END:VEVENT
END:VCALENDAR