BEGIN:VCALENDAR
VERSION:2.0
PRODID:-//Graeme Park - ECPv4.2.3//NONSGML v1.0//EN
CALSCALE:GREGORIAN
METHOD:PUBLISH
X-WR-CALNAME:Graeme Park
X-ORIGINAL-URL:https://www.graemepark.org
X-WR-CALDESC:Events for Graeme Park
BEGIN:VEVENT
DTSTART;TZID=America/New_York:20220716T173000
DTEND;TZID=America/New_York:20220716T200000
DTSTAMP:20260420T132533
CREATED:20220528T143215
LAST-MODIFIED:20220624T193011
UID:6361-1657992600-1658001600@www.graemepark.org
SUMMARY:The "Dead" of Summer: An Historical Séance
DESCRIPTION:Join us for a theatrical\, historically-based séance in the spooky\, candlelit parlor of the Keith House at Graeme Park. The experience will be conducted in the style of an early 20th century séance when “mediums” and “psychics” took advantage of those for whom death was a very near experience\, perhaps having recently lost loved ones in the 1918 flu pandemic or the first World War\, by using trickery and magic to convince them they were in contact with their beloved.\n\nOur “medium” will lead the group through a reenactment of this popular form of spiritualism\, which some took seriously\, some took as a form of entertainment\, and some were skeptical of. Following the séance\, there will be a short discussion of the history of and psychology behind this phenomena and you can decide for yourself – would you have been a spiritualist or a skeptic?\n\nThe experience is $20/person and groups are limited to 20 people. Light refreshments will be served in the Visitors’ Center following the program.\n\nTickets must be reserved and prepaid online. Purchase your TICKETS.
URL:https://www.graemepark.org/event/the-dead-of-summer-an-historical-seance/
LOCATION:859 County Line Road\, Horsham\, PA\, 19044\, United States
CATEGORIES:Living History
ATTACH;FMTTYPE=image/png:https://www.graemepark.org/wp-content/uploads/2022/05/DeadSummer.png
END:VEVENT
END:VCALENDAR