BEGIN:VCALENDAR
VERSION:2.0
PRODID:-//Graeme Park - ECPv4.2.3//NONSGML v1.0//EN
CALSCALE:GREGORIAN
METHOD:PUBLISH
X-WR-CALNAME:Graeme Park
X-ORIGINAL-URL:https://www.graemepark.org
X-WR-CALDESC:Events for Graeme Park
BEGIN:VEVENT
DTSTART;TZID=America/New_York:20231029T130000
DTEND;TZID=America/New_York:20231029T143000
DTSTAMP:20260420T204643
CREATED:20230120T191034
LAST-MODIFIED:20230921T171049
UID:6573-1698584400-1698589800@www.graemepark.org
SUMMARY:Haunted Storytime & Trick-or-Treating
DESCRIPTION:Kids\, trick-or-treat through each room of the Keith House while our resident witches\, ghosts\, pirates and goblins read a progressive story. A treat in every room. Treat bags provided. Costumes encouraged. Appropriate for kids 10 and under. 1 and 2:30 pm.\n\nTickets available on Eventbrite by clicking HERE.
URL:https://www.graemepark.org/event/haunted-story-time-trick-or-treating/
LOCATION:859 County Line Road\, Horsham\, PA\, 19044\, United States
CATEGORIES:Holiday
ATTACH;FMTTYPE=image/png:https://www.graemepark.org/wp-content/uploads/2023/01/KidsHalloween29.png
END:VEVENT
END:VCALENDAR