BEGIN:VCALENDAR
VERSION:2.0
PRODID:-//Graeme Park - ECPv4.2.3//NONSGML v1.0//EN
CALSCALE:GREGORIAN
METHOD:PUBLISH
X-WR-CALNAME:Graeme Park
X-ORIGINAL-URL:https://www.graemepark.org
X-WR-CALDESC:Events for Graeme Park
BEGIN:VEVENT
DTSTART;TZID=America/New_York:20240414T130000
DTEND;TZID=America/New_York:20240414T150000
DTSTAMP:20260425T180059
CREATED:20240112T182529
LAST-MODIFIED:20240229T184522
UID:6722-1713099600-1713106800@www.graemepark.org
SUMMARY:Tea with Louisa May Alcott
DESCRIPTION:You know Louisa May Alcott as the author of the beloved young adult novel\, Little Women. Although she immortalized her family’s life in Massachusetts in her writing\, she was born in Pennsylvania\, just miles from Graeme Park. Join her in 1868 as she visits her birth state on an author’s speaking tour\, on the heels of the surprise success of part one of her most successful work to date\, Little Women: or Meg\, Jo\, Beth and Amy.\n\nThe program will include a reading of selections from Alcott’s works leading up to Little Women\, discussion of her life and artistic influences\, and an opportunity for audience members to provide feedback on what should happen in part two of Little Women\, which she is begrudgingly writing by popular (and her editor’s) demand.\n\nAfter the presentation\, enjoy afternoon tea\, plus an informal chat with Louisa.\n\nPlease use the link below to purchase tickets online or CLICK HERE to download and print a mailable form.\n\n\nBUY TICKETS NOW\nSell tickets online with Ticketleap\n
URL:https://www.graemepark.org/event/tea-with-louisa-may-alcott-3/
LOCATION:859 County Line Road\, Horsham\, PA\, 19044\, United States
CATEGORIES:Lecture,Living History
ATTACH;FMTTYPE=image/png:https://www.graemepark.org/wp-content/uploads/2024/01/TeaLMA.png
END:VEVENT
END:VCALENDAR