BEGIN:VCALENDAR
VERSION:2.0
PRODID:-//Graeme Park - ECPv4.2.3//NONSGML v1.0//EN
CALSCALE:GREGORIAN
METHOD:PUBLISH
X-WR-CALNAME:Graeme Park
X-ORIGINAL-URL:https://www.graemepark.org
X-WR-CALDESC:Events for Graeme Park
BEGIN:VEVENT
DTSTART;TZID=America/New_York:20250406T130000
DTEND;TZID=America/New_York:20250406T150000
DTSTAMP:20260421T213621
CREATED:20250118T161931
LAST-MODIFIED:20250307T144142
UID:6874-1743944400-1743951600@www.graemepark.org
SUMMARY:SOLD OUT - Tea with Harriot Stanton Blatch
DESCRIPTION:Join us for a presentation on Harriot Stanton Blatch followed by a tea with sandwiches and sweets.\n\nHarriot Stanton Blatch was the daughter of suffragette Elizabeth Cady Stanton. Raised in a family that encouraged debate and political conversation\, young Harriot was exposed to such activists in the women’s movement as Sojourner Truth and Susan B. Anthony\, as well as to her mother’s ideals. As a young woman\, she emerged in her own right to lecture\, write\, lobby\, and advocate for legislative policy in the effort to gain voting rights for women. The end of her life was devoted to ensuring her mother’s legacy.\n\n
URL:https://www.graemepark.org/event/tea-with-harriot-stanton-blatch/
LOCATION:859 County Line Road\, Horsham\, PA\, 19044\, United States
CATEGORIES:Lecture,Teas
ATTACH;FMTTYPE=image/png:https://www.graemepark.org/wp-content/uploads/2025/01/0406BlatchTea.png
END:VEVENT
END:VCALENDAR