BEGIN:VCALENDAR
VERSION:2.0
PRODID:-//Graeme Park - ECPv4.2.3//NONSGML v1.0//EN
CALSCALE:GREGORIAN
METHOD:PUBLISH
X-WR-CALNAME:Graeme Park
X-ORIGINAL-URL:https://www.graemepark.org
X-WR-CALDESC:Events for Graeme Park
BEGIN:VEVENT
DTSTART;TZID=America/New_York:20250430T100000
DTEND;TZID=America/New_York:20250430T140000
DTSTAMP:20260424T123904
CREATED:20250118T162411
LAST-MODIFIED:20250215T174842
UID:6876-1746007200-1746021600@www.graemepark.org
SUMMARY:Lunch & Learn: The Doan Gang\, Outlaws of the Revolution
DESCRIPTION:Join us for a waffle breakfast\, catered hot lunch\, and lecture on the Doan Gang of Bucks County\, presented by the Mercer Museum in conjunction with their special exhibit.\n\nThe Doan Gang was a group of British loyalists\, the most notorious members being five brothers and one cousin from the Doan family of Plumstead\, PA. The gang was composed of around 50 members who were accused murderers\, attainted traitors\, horse thieves\, and ferried British prisoners of war to British lines. They were also guilty of robbing tax collectors\, their most famous crime being the theft of the Bucks County treasury in 1781. This 45-minute lecture focuses on the Doan Gang and their activities in Bucks County during the American Revolution. Events covered include the Loyalist raid of the Bird in the Hand tavern in Newtown\, PA and the Battle of Crooked Billet. This lecture is based entirely on contemporary research using historic court documents\, eyewitness accounts\, and newspaper appearances.\n\nThe speakers are Annie Halliday\, Director of Library and Archives at the Mercer Museum\, and Clint Flack\, Exhibition Specialist.\n\nPlease reserve your space through Eventbrite using the below button\, or print and mail the registration form with your check. \n\n\n.maxbutton {\n  position: relative;\n  text-decoration: none;\n  display: inline-block;\n  vertical-align: middle;\n  width: 160px;\n  height: 35px;\n  border: 2px solid #394a8e;\n  border-radius: 4px 4px 4px 4px;\n  background-color: #394a8e;\n  box-shadow: 0px 0px 2px 0px #333333;\n}\n.maxbutton:hover {\n  border-color: #394a8e;\n  background-color: white;\n  box-shadow: 0px 0px 2px 0px #333333;\n}\n.maxbutton .mb-text {\n  color: #ffffff;\n  font-family: Tahoma;\n  font-size: 15px;\n  text-align: center;\n  font-style: normal;\n  font-weight: normal;\n  line-height: 1em;\n  box-sizing: border-box;\n  display: block;\n  background-color: unset;\n  position: relative;\n  padding: 8px 0px 0px 0px;\n  text-shadow: 0px 0px 0px #505ac7;\n}\n.maxbutton:hover .mb-text {\n  color: #6e8db2;\n  text-shadow: 0px 0px 0px #333333;\n}\n\nRegister on Eventbrite\n\n\n.maxbutton {\n  position: relative;\n  text-decoration: none;\n  display: inline-block;\n  vertical-align: middle;\n  width: 183px;\n  height: 35px;\n  border: 2px solid #394a8e;\n  border-radius: 4px 4px 4px 4px;\n  background-color: #394a8e;\n  box-shadow: 0px 0px 2px 0px #333333;\n}\n.maxbutton:hover {\n  border-color: #394a8e;\n  background-color: white;\n  box-shadow: 0px 0px 2px 0px #333333;\n}\n.maxbutton .mb-text {\n  color: #ffffff;\n  font-family: Tahoma;\n  font-size: 15px;\n  text-align: center;\n  font-style: normal;\n  font-weight: normal;\n  line-height: 1em;\n  box-sizing: border-box;\n  display: block;\n  background-color: unset;\n  position: relative;\n  padding: 8px 0px 0px 0px;\n  text-shadow: 0px 0px 0px #505ac7;\n}\n.maxbutton:hover .mb-text {\n  color: #6e8db2;\n  text-shadow: 0px 0px 0px #333333;\n}\n\nDownload and Print Form
URL:https://www.graemepark.org/event/lunch-learn-the-doan-gang-outlaws-of-the-revolution/
LOCATION:859 County Line Road\, Horsham\, PA\, 19044\, United States
CATEGORIES:Lecture,Lunch & Learn,Tours
ATTACH;FMTTYPE=image/png:https://www.graemepark.org/wp-content/uploads/2025/01/0430DoanGang.png
END:VEVENT
END:VCALENDAR